BEGIN:VCALENDAR
VERSION:2.0
PRODID:-//TRUSTED.ro - ECPv6.2.3.2//NONSGML v1.0//EN
CALSCALE:GREGORIAN
METHOD:PUBLISH
X-ORIGINAL-URL:https://trusted.ro
X-WR-CALDESC:Events for TRUSTED.ro
REFRESH-INTERVAL;VALUE=DURATION:PT1H
X-Robots-Tag:noindex
X-PUBLISHED-TTL:PT1H
BEGIN:VTIMEZONE
TZID:Europe/Bucharest
BEGIN:DAYLIGHT
TZOFFSETFROM:+0200
TZOFFSETTO:+0300
TZNAME:EEST
DTSTART:20250330T010000
END:DAYLIGHT
BEGIN:STANDARD
TZOFFSETFROM:+0300
TZOFFSETTO:+0200
TZNAME:EET
DTSTART:20251026T010000
END:STANDARD
BEGIN:DAYLIGHT
TZOFFSETFROM:+0200
TZOFFSETTO:+0300
TZNAME:EEST
DTSTART:20260329T010000
END:DAYLIGHT
BEGIN:STANDARD
TZOFFSETFROM:+0300
TZOFFSETTO:+0200
TZNAME:EET
DTSTART:20261025T010000
END:STANDARD
END:VTIMEZONE
BEGIN:VEVENT
DTSTART;TZID=Europe/Bucharest:20250205T093000
DTEND;TZID=Europe/Bucharest:20250208T170000
DTSTAMP:20260421T191142
CREATED:20250120T095403Z
LAST-MODIFIED:20250120T095403Z
UID:24153-1738747800-1739034000@trusted.ro
SUMMARY:Școala de Iarnă GPeC 5-8 februarie 2025 - exclusiv online
DESCRIPTION:În perioada 5-8 februarie 2025 te invitam la Școala de Iarnă GPeC – seria de Cursuri Intensive de E-Commerce & Digital Marketing care se va desfășura exclusiv online\, pe Zoom. De ce online? Pentru a putea accesa cele 4 zile de cursuri practice de oriunde ai fi\, alături de unii dintre cei mai buni traineri internaționali și români din domeniu. \nCursuri axate pe tot ce e important pentru un business e-commerce în 2025 \n\nSituația pieței de E-Commerce la zi\, trend-uri & oportunități de creștere în 2025\nMeta Ads\nOptimizarea Ratei de Conversie\nCustomer Lifetime Value\nGoogle Ads\nGoogle Analytics 4\nCum folosim ChatGPT pentru optimizarea SEO a paginilor de produs\nUser Experience & Online Marketing Tips\nE-mail Marketing\nSEO & AI\nAspecte juridice pentru e-commerce\n\n\nCe câștigi prin participarea la Școala de iarnă GPeC \n\nAi parte de sesiuni de cursuri și dezbateri intensive pe cele mai importante subiecte de E-Commerce și Marketing Online de la unii dintre cei mai buni specialiști internaționali și români –> știi ce să faci ca să îți crești vânzările în 2025\nPrimești înregistrările video ale cursurilor pentru a le putea parcurge la un moment ulterior –> nu ratezi nimic din conținutul transmis și aprofundezi cunoștințele dobândite oricând\n\nPe lângă partea de learning\, ai posibilitatea să stai de vorbă cu trainerii și cu invitații speciali (fără să fie nimeni pe fugă\, cum se mai poate întâmpla la orice conferință) –> primești consultanță și sfaturi avizate fix pentru afacerea ta \n\n\nTe împrietenești și schimbi idei/păreri/contacte cu trainerii și colegii cursanți –> înveți din experiența lor\, beneficiezi de recomandări și știi la cine să apelezi atunci când ai nevoie de ajutor pentru a-ți crește afacerea \nAflă aici lista trainerilor și înscrie-te acum.
URL:https://trusted.ro/scoala-de-iarna-gpec-5-8-februarie-2025-exclusiv-online/
LOCATION:Online
ORGANIZER;CN="GPeC":MAILTO:contact@gpec.ro
END:VEVENT
BEGIN:VEVENT
DTSTART;TZID=Europe/Bucharest:20250526T080000
DTEND;TZID=Europe/Bucharest:20250527T200000
DTSTAMP:20260421T191142
CREATED:20250120T105735Z
LAST-MODIFIED:20250120T105735Z
UID:24156-1748246400-1748376000@trusted.ro
SUMMARY:GPeC SUMMIT 26-27 Mai 2025 | Ediția de 20 de Ani
DESCRIPTION:GPeC SUMMIT 26-27 Mai 2025 |\nEdiția de 20 de Ani\nCel mai important eveniment de E-Commerce și Digital Marketing din CEE: Conferință\, Masterclass\, Expo\, Networking și Party cu elita pieței Digital\n\n\n\n\n\n\nCu ce te așteptăm la GPeC SUMMIT 26-27 Mai 2025 – ediția de 20 de ani\n\n\n\n\n\n\n\n\n\n\n\n\n\n\n\n\n26 Mai\, BT Stup\, București – Masterclass Content Marketing & Lead Generation – Andy Crestodina\, Top 3 Global Influencers in Content Marketing\, potrivit SEMrush;\n27 Mai\, Teatrul Național București – Conferința GPeC: 1 zi întreagă de conferință despre tot ce e actual în E-Commerce și Marketing Online\, alături de cei mai buni speakeri internaționali din istoria GPeC și 800+ participanți C-Level;\n27 Mai\, Teatrul Național București – GPeC Expo: În paralel cu Conferința GPeC\, are loc GPeC Expo – locul în care furnizorii de servicii e-commerce își pot prezenta soluțiile în fața magazinelor online și pot obține lead-uri de la acestea;\n27 Mai\, Teatrul Național București – GPeC Networking Lounge: Folosește aplicația de networking GPeC (SwapCard) și stabilește întâlniri cu alți participanți în zona dedicată;\n27 Mai\, Aria TNB – GPeC Networking Soirée: Seara de 27 Mai îți aduce socializare\, zâmbete și networking la superlativ cu elita pieței Digital: 200+ reprezentanți C-Level ai celor mai importante companii de profil;\n\nÎnscrie-te cu preț redus până în 28 februarie 2025.
URL:https://trusted.ro/gpec-summit-26-27-mai-2025-editia-de-20-de-ani/
LOCATION:Bucuresti
ORGANIZER;CN="GPeC":MAILTO:contact@gpec.ro
END:VEVENT
BEGIN:VEVENT
DTSTART;TZID=Europe/Bucharest:20250530T090000
DTEND;TZID=Europe/Bucharest:20250530T170000
DTSTAMP:20260421T191142
CREATED:20250313T084706Z
LAST-MODIFIED:20250313T084850Z
UID:24237-1748595600-1748624400@trusted.ro
SUMMARY:GPeC SUMMIT Republica Moldova - 30 Mai 2025
DESCRIPTION:Ce te așteaptă la GPeC Republica Moldova 30 Mai 2025\n\n\n\n\n\n\n\n\n\n\n\n\n\n\n\n  \n\n30 Mai\, Radisson Blu Leogrand Hotel Chișinău – Conferința GPeC: 1 zi întreagă de conferință despre tot ce e important în E-Commerce și Marketing Online\, alături de experți consacrați internaționali și locali și 300+ participanți C-Level;\n30 Mai\, Radisson Blu Leogrand Hotel Chișinău – GPeC Expo: În paralel cu Conferința GPeC\, are loc GPeC Expo – locul în care furnizorii de servicii e-commerce se întâlnesc față în față cu magazinele online\, obțin lead-uri și discută business;\n30 Mai – GPeC Networking Cocktail: Seara de 30 Mai îți aduce socializare\, zâmbete și bucuria întâlnirii cu elita pieței Digital – peste 100 de reprezentanți ai celor mai importante companii de profil din România și din Republica Moldova;\nPe parcursul întregului eveniment ai pauze dedicate de cafea și networking\, astfel încât să te cunoști și să interacționezi cu participanții C-Level din domeniu.\n\nMai multe detalii și înscrieri aici.
URL:https://trusted.ro/gpec-summit-republica-moldova/
END:VEVENT
BEGIN:VEVENT
DTSTART;TZID=Europe/Bucharest:20251014T080000
DTEND;TZID=Europe/Bucharest:20251014T210000
DTSTAMP:20260421T191142
CREATED:20251002T072752Z
LAST-MODIFIED:20251002T073337Z
UID:24522-1760428800-1760475600@trusted.ro
SUMMARY:GPeC SUMMIT 14 Octombrie 2025 | Ediția de 20 de Ani
DESCRIPTION:Vino să descoperi content practic și inspirațional de la cei mai apreciați speakeri #BestOfGPeC în cadrul evenimentului Anului în E-Commerce & Digital Marketing: Conferință\, Expo\, Gala Premiilor eCommerce și Networking Soirée cu elita industriei Digital.\nDetalii și înscrieri https://www.gpec.ro/gpec-summit-octombrie/
URL:https://trusted.ro/gpec-summit-14-octombrie-2025-editia-de-20-de-ani/
LOCATION:Bucuresti
CATEGORIES:Conferințe
ATTACH;FMTTYPE=image/jpeg:https://trusted.ro/wp-content/uploads/2025/10/gpec2340x820-HP.jpg
END:VEVENT
BEGIN:VEVENT
DTSTART;TZID=Europe/Bucharest:20260211T090000
DTEND;TZID=Europe/Bucharest:20260214T170000
DTSTAMP:20260421T191142
CREATED:20260121T130442Z
LAST-MODIFIED:20260121T130442Z
UID:24601-1770800400-1771088400@trusted.ro
SUMMARY:Școala de Iarnă GPeC Online 11-14 februarie 2026
DESCRIPTION:Mințile briliante sunt la Școala de Iarnă GPeC\nPrimul eveniment GPeC din 2026 este Școala de Iarnă de E-Commerce & Digital Marketing – seria de cursuri\, prezentări și dezbateri intensive care se va desfășura exclusiv online pe Zoom (deci o puteți accesa de oriunde)\, în perioada 11–14 februarie 2026. \nPrintre trainerii internaționali confirmați: \n\nDan Ariely\, unul dintre cei mai influenți 50 de gânditori contemporani\, profesor în Economie Comportamentală și autor a 3 cărți bestseller\nAvinash Kaushik\, Digital Marketing Evangelist\, autor a două cărți bestseller\nMark Schaefer\, unul dintre cei mai apreciați autori\, speakeri și consultanți de Marketing la nivel global\, scriind nu mai puțin de 10 cărți bestseller\nAndy Crestodina\, top 3 cei mai influenți specialiști în Content Marketing la nivel global\, expert în AI\, SEO\, Lead Generation.\n\n\n\n\n\n\n\nCe te așteaptă la Școala de Iarnă GPeC\nCursuri de Digital Marketing și E-Commerce cu cei mai buni traineri internaționali și români\n\n\n\n\n\n\n\n\n\n\n\n\n\n\n\n\nCursuri și dezbateri pe cele mai importante subiecte de E-Commerce și Digital Marketing pentru ca afacerea ta să crească în 2026\, ținând cont de toate provocările actuale;\nSpeakeri internaționali și români de excepție\, reuniți în același loc\, cum e imposibil să mai întâlnești;\nConținut acționabil de tip How-To\, cu tips & tricks și exemple concrete care te vor ajuta să îți dezvolți business-ul\, dar și modul în care gândești personal și profesional;\nPoți adresa întrebări oricând și porți dialoguri informale și constructive – nimeni nu rămâne fără răspuns și nu există întrebări proaste;\nDesfășurare exclusiv online – participi la Școala de Iarnă GPeC de oriunde ai fi\, cât timp ai un laptop conectat la internet;\nAi acces la înregistrările video ale tuturor sesiunilor de curs pentru aprofundarea ulterioară a informațiilor transmise. Și poți face share cu echipa ta.\n\nDetalii și înscriere aici.
URL:https://trusted.ro/scoala-de-iarna-gpec-online-11-14-februarie-2026/
LOCATION:Online
ORGANIZER;CN="GPeC":MAILTO:contact@gpec.ro
END:VEVENT
END:VCALENDAR