BEGIN:VCALENDAR
VERSION:2.0
PRODID:-//TRUSTED.ro - ECPv6.2.3.2//NONSGML v1.0//EN
CALSCALE:GREGORIAN
METHOD:PUBLISH
X-ORIGINAL-URL:https://trusted.ro
X-WR-CALDESC:Events for TRUSTED.ro
REFRESH-INTERVAL;VALUE=DURATION:PT1H
X-Robots-Tag:noindex
X-PUBLISHED-TTL:PT1H
BEGIN:VTIMEZONE
TZID:Europe/Bucharest
BEGIN:DAYLIGHT
TZOFFSETFROM:+0200
TZOFFSETTO:+0300
TZNAME:EEST
DTSTART:20240331T010000
END:DAYLIGHT
BEGIN:STANDARD
TZOFFSETFROM:+0300
TZOFFSETTO:+0200
TZNAME:EET
DTSTART:20241027T010000
END:STANDARD
END:VTIMEZONE
BEGIN:VEVENT
DTSTART;TZID=Europe/Bucharest:20240620T080000
DTEND;TZID=Europe/Bucharest:20240620T180000
DTSTAMP:20260423T025720
CREATED:20240611T074601Z
LAST-MODIFIED:20240611T094305Z
UID:23769-1718870400-1718906400@trusted.ro
SUMMARY:GPeC Republica Moldova 20 Iunie 2024
DESCRIPTION:Pe 20 iunie\, te așteptăm la a doua ediție a GPeC SUMMIT Republica Moldova\, în Chișinău! Ai parte de o zi întreagă de Conferință de E-Commerce & Digital Marketing\, Expo și Networking alături de unii dintre cei mai buni specialiști internaționali și locali.\nCe te așteaptă la GPeC Republica Moldova 20 Iunie 2024\n\n\n\n\n\n\n\n\n\n\n\n\n\n\n\n\n20 Iunie\, Radisson Blu Leogrand Hotel Chișinău – Conferința GPeC: 1 zi întreagă de conferință despre tot ce e actual în E-Commerce și Marketing Online\, alături de experți consacrați internaționali și locali și 200+ participanți C-Level;\n20 Iunie\, Radisson Blu Leogrand Hotel Chișinău – GPeC Expo: În paralel cu Conferința GPeC\, are loc GPeC Expo – locul în care furnizorii de servicii e-commerce își pot prezenta soluțiile în fața magazinelor online și pot obține lead-uri de la acestea;\n20 Iunie – GPeC Networking Party: Seara de 20 Iunie îți aduce socializare\, zâmbete și bucuria întâlnirii cu elita pieței Digital: 100+ reprezentanți ai celor mai importante companii de profil din România și Republica Moldova;\nPe parcursul întregului eveniment GPeC ai pauze dedicate de cafea și networking\, astfel încât să te cunoști și să interacționezi cu participanții C-Level din domeniu.\n\nDetalii înscriere aici.
URL:https://trusted.ro/gpec-republica-moldova-20-iunie/
LOCATION:Chisinau
CATEGORIES:Conferințe
ORGANIZER;CN="GPeC":MAILTO:contact@gpec.ro
END:VEVENT
END:VCALENDAR