BEGIN:VCALENDAR
VERSION:2.0
PRODID:-//TRUSTED.ro - ECPv6.2.3.2//NONSGML v1.0//EN
CALSCALE:GREGORIAN
METHOD:PUBLISH
X-ORIGINAL-URL:https://trusted.ro
X-WR-CALDESC:Events for TRUSTED.ro
REFRESH-INTERVAL;VALUE=DURATION:PT1H
X-Robots-Tag:noindex
X-PUBLISHED-TTL:PT1H
BEGIN:VTIMEZONE
TZID:Europe/Bucharest
BEGIN:DAYLIGHT
TZOFFSETFROM:+0200
TZOFFSETTO:+0300
TZNAME:EEST
DTSTART:20250330T010000
END:DAYLIGHT
BEGIN:STANDARD
TZOFFSETFROM:+0300
TZOFFSETTO:+0200
TZNAME:EET
DTSTART:20251026T010000
END:STANDARD
END:VTIMEZONE
BEGIN:VEVENT
DTSTART;TZID=Europe/Bucharest:20250530T090000
DTEND;TZID=Europe/Bucharest:20250530T170000
DTSTAMP:20260418T193422
CREATED:20250313T084706Z
LAST-MODIFIED:20250313T084850Z
UID:24237-1748595600-1748624400@trusted.ro
SUMMARY:GPeC SUMMIT Republica Moldova - 30 Mai 2025
DESCRIPTION:Ce te așteaptă la GPeC Republica Moldova 30 Mai 2025\n\n\n\n\n\n\n\n\n\n\n\n\n\n\n\n  \n\n30 Mai\, Radisson Blu Leogrand Hotel Chișinău – Conferința GPeC: 1 zi întreagă de conferință despre tot ce e important în E-Commerce și Marketing Online\, alături de experți consacrați internaționali și locali și 300+ participanți C-Level;\n30 Mai\, Radisson Blu Leogrand Hotel Chișinău – GPeC Expo: În paralel cu Conferința GPeC\, are loc GPeC Expo – locul în care furnizorii de servicii e-commerce se întâlnesc față în față cu magazinele online\, obțin lead-uri și discută business;\n30 Mai – GPeC Networking Cocktail: Seara de 30 Mai îți aduce socializare\, zâmbete și bucuria întâlnirii cu elita pieței Digital – peste 100 de reprezentanți ai celor mai importante companii de profil din România și din Republica Moldova;\nPe parcursul întregului eveniment ai pauze dedicate de cafea și networking\, astfel încât să te cunoști și să interacționezi cu participanții C-Level din domeniu.\n\nMai multe detalii și înscrieri aici.
URL:https://trusted.ro/gpec-summit-republica-moldova/
END:VEVENT
END:VCALENDAR